BEGIN:VCALENDAR
VERSION:2.0
PRODID:icalendar-ruby
CALSCALE:GREGORIAN
METHOD:PUBLISH
BEGIN:VEVENT
DTSTAMP:20210228T135345Z
UID:http://www.cumberlandrg.com.au/property?property_id=423823
DTSTART:20190817T090000
DTEND:20190817T093000
CLASS:PUBLIC
CREATED:20190711T141210
DESCRIPTION: 
LAST-MODIFIED:20201212T100211
LOCATION:142 Braeside Road\, GREYSTANES NSW 2145\, Australia
SUMMARY:142 Braeside Road\,  Auction
URL:http://www.cumberlandrg.com.au/property?property_id=423823
END:VEVENT
END:VCALENDAR
