BEGIN:VCALENDAR
VERSION:2.0
PRODID:icalendar-ruby
CALSCALE:GREGORIAN
METHOD:PUBLISH
BEGIN:VEVENT
DTSTAMP:20210228T135544Z
UID:http://www.cumberlandrg.com.au/property?property_id=443254
DTSTART:20190928T123000
DTEND:20190928T130000
CLASS:PUBLIC
CREATED:20190820T111240
DESCRIPTION: 
LAST-MODIFIED:20190930T153557
LOCATION:19 TULIP STREET\, GREYSTANES NSW 2145\, Australia
SUMMARY:19 TULIP STREET\,  Auction
URL:http://www.cumberlandrg.com.au/property?property_id=443254
END:VEVENT
END:VCALENDAR
