BEGIN:VCALENDAR
VERSION:2.0
PRODID:icalendar-ruby
CALSCALE:GREGORIAN
METHOD:PUBLISH
BEGIN:VEVENT
DTSTAMP:20210228T135442Z
UID:http://www.cumberlandrg.com.au/property?property_id=449143
DTSTART:20191019T133000
DTEND:20191019T140000
CLASS:PUBLIC
CREATED:20190911T141241
DESCRIPTION: 
LAST-MODIFIED:20191128T110117
LOCATION:3 Meakin Street\, MERRYLANDS NSW 2160\, Australia
SUMMARY:3 Meakin Street\,  Auction
URL:http://www.cumberlandrg.com.au/property?property_id=449143
END:VEVENT
END:VCALENDAR
