BEGIN:VCALENDAR
VERSION:2.0
PRODID:icalendar-ruby
CALSCALE:GREGORIAN
METHOD:PUBLISH
BEGIN:VEVENT
DTSTAMP:20210228T135428Z
UID:http://www.cumberlandrg.com.au/property?property_id=491710
DTSTART:20191207T110000
DTEND:20191207T113000
CLASS:PUBLIC
CREATED:20191113T131252
DESCRIPTION: 
LAST-MODIFIED:20191206T141307
LOCATION:5 WALTER PLACE\, GREYSTANES NSW 2145\, Australia
SUMMARY:5 WALTER PLACE\,  Auction
URL:http://www.cumberlandrg.com.au/property?property_id=491710
END:VEVENT
END:VCALENDAR
