BEGIN:VCALENDAR
VERSION:2.0
PRODID:icalendar-ruby
CALSCALE:GREGORIAN
METHOD:PUBLISH
BEGIN:VEVENT
DTSTAMP:20210228T135159Z
UID:http://www.cumberlandrg.com.au/property?property_id=663212
DTSTART:20201205T123000
DTEND:20201205T130000
CLASS:PUBLIC
CREATED:20201110T131257
DESCRIPTION: 
LAST-MODIFIED:20210104T131239
LOCATION:8 JASMINE PLACE\, GREYSTANES NSW 2145\, Australia
SUMMARY:8 JASMINE PLACE\,  Auction
URL:http://www.cumberlandrg.com.au/property?property_id=663212
END:VEVENT
END:VCALENDAR
