BEGIN:VCALENDAR
VERSION:2.0
PRODID:icalendar-ruby
CALSCALE:GREGORIAN
METHOD:PUBLISH
BEGIN:VEVENT
DTSTAMP:20210228T135154Z
UID:http://www.cumberlandrg.com.au/property?property_id=665580
DTSTART:20210206T123000
DTEND:20210206T130000
CLASS:PUBLIC
CREATED:20201117T191233
DESCRIPTION: 
LAST-MODIFIED:20210204T121356
LOCATION:69 BETTS RD (Cumberland Hwy)\, GREYSTANES NSW 2145\, Australia
SUMMARY:69 BETTS RD (Cumberland Hwy)\,  Auction
URL:http://www.cumberlandrg.com.au/property?property_id=665580
END:VEVENT
END:VCALENDAR
