BEGIN:VCALENDAR
VERSION:2.0
PRODID:icalendar-ruby
CALSCALE:GREGORIAN
METHOD:PUBLISH
BEGIN:VEVENT
DTSTAMP:20210228T135135Z
UID:http://www.cumberlandrg.com.au/property?property_id=678354
DTSTART:20201219T123000
DTEND:20201219T130000
CLASS:PUBLIC
CREATED:20201219T121330
DESCRIPTION: 
LAST-MODIFIED:20210111T151400
LOCATION:9 MARDI STREET\, GIRRAWEEN NSW 2145\, Australia
SUMMARY:9 MARDI STREET\,  Auction
URL:http://www.cumberlandrg.com.au/property?property_id=678354
END:VEVENT
END:VCALENDAR
