BEGIN:VCALENDAR
VERSION:2.0
PRODID:icalendar-ruby
CALSCALE:GREGORIAN
METHOD:PUBLISH
BEGIN:VEVENT
DTSTAMP:20210228T130148Z
UID:http://www.cumberlandrg.com.au/property?property_id=697130
DTSTART:20210327T093000
DTEND:20210327T100000
CLASS:PUBLIC
CREATED:20210223T101350
DESCRIPTION: 
LAST-MODIFIED:20210227T091426
LOCATION:44 Dorothy Street\, WENTWORTHVILLE NSW 2145\, Australia
SUMMARY:44 Dorothy Street\,  Auction
URL:http://www.cumberlandrg.com.au/property?property_id=697130
END:VEVENT
END:VCALENDAR
