BEGIN:VCALENDAR
VERSION:2.0
PRODID:icalendar-ruby
CALSCALE:GREGORIAN
METHOD:PUBLISH
BEGIN:VEVENT
DTSTAMP:20210228T130147Z
UID:http://www.cumberlandrg.com.au/property?property_id=698410
DTSTART:20210327T103000
DTEND:20210327T110000
CLASS:PUBLIC
CREATED:20210223T171510
DESCRIPTION: 
LAST-MODIFIED:20210226T221456
LOCATION:73 Canal Road\, GREYSTANES NSW 2145\, Australia
SUMMARY:73 Canal Road\,  Auction
URL:http://www.cumberlandrg.com.au/property?property_id=698410
END:VEVENT
END:VCALENDAR
